BEGIN:VCALENDAR
VERSION:2.0
PRODID:-//NUOVA Vocal Arts - ECPv6.15.20//NONSGML v1.0//EN
CALSCALE:GREGORIAN
METHOD:PUBLISH
X-WR-CALNAME:NUOVA Vocal Arts
X-ORIGINAL-URL:https://nuovavocalarts.ca/fr
X-WR-CALDESC:Événements pour NUOVA Vocal Arts
REFRESH-INTERVAL;VALUE=DURATION:PT1H
X-Robots-Tag:noindex
X-PUBLISHED-TTL:PT1H
BEGIN:VTIMEZONE
TZID:America/Edmonton
BEGIN:DAYLIGHT
TZOFFSETFROM:-0700
TZOFFSETTO:-0600
TZNAME:MDT
DTSTART:20240310T090000
END:DAYLIGHT
BEGIN:STANDARD
TZOFFSETFROM:-0600
TZOFFSETTO:-0700
TZNAME:MST
DTSTART:20241103T080000
END:STANDARD
BEGIN:DAYLIGHT
TZOFFSETFROM:-0700
TZOFFSETTO:-0600
TZNAME:MDT
DTSTART:20250309T090000
END:DAYLIGHT
BEGIN:STANDARD
TZOFFSETFROM:-0600
TZOFFSETTO:-0700
TZNAME:MST
DTSTART:20251102T080000
END:STANDARD
BEGIN:DAYLIGHT
TZOFFSETFROM:-0700
TZOFFSETTO:-0600
TZNAME:MDT
DTSTART:20260308T090000
END:DAYLIGHT
BEGIN:STANDARD
TZOFFSETFROM:-0600
TZOFFSETTO:-0700
TZNAME:MST
DTSTART:20261101T080000
END:STANDARD
END:VTIMEZONE
BEGIN:VEVENT
DTSTART;TZID=America/Edmonton:20250610T173000
DTEND;TZID=America/Edmonton:20250610T213000
DTSTAMP:20260423T152717
CREATED:20250428T175324Z
LAST-MODIFIED:20250428T175324Z
UID:10000453-1749576600-1749591000@nuovavocalarts.ca
SUMMARY:ENCORE! A Broadway Benefit Dinner Cabaret
DESCRIPTION:Join NUOVA Vocal Arts for a night of Broadway’s best tunes\, delicious Italian plates\, and quality time with your friends & family\n\n\nCelebrate with NUOVA’s 5-week intensive singers\, Broadway’s best showtunes\, and a delicious 4 course Italian dinner! This concert is a fundraising initiative from NUOVA Vocal Arts to celebrate these emerging artists\, and to raise money to support future emerging artists with scholarships to our intensive programs! \n \nDETAILS\nWHEN: Tuesday June 10th \nDOORS OPEN: 5:30pm \nPROGRAM BEGINS: 6:00pm \nWHERE: The Parlour Italian Kitchen & Bar (10334 108 St NW\, Edmonton\, AB T5J 1L9) \nWHAT’S INCLUDED: The price of your ticket includes a 4 course Italian dinner (appetizer\, pasta\, main & dessert)\, 20% gratuity to the restaurant\, and a $25 chritable tax receipt \nPlease Note: We will be offering complimentary coffee and tea\, however any alcoholic\, and non-alcoholic beverages will be an extra cost to you. \n \nMENU\nCourse 1: Small amuse served on arrival \nCourse 2: FARM GREENS SALAD- Market farm greens\, ripe baby tomatoes\, red onion\, cucumber\, parmesan\, oregano vinaigrette \nCourse 3: ORECCHIETTE ALLE PESTO ‘Little Ear Pasta Dragged Through The Garden’ – portobellos\, zucchini\, red pepper\, pumpkin seed & basil pesto\, arugula\, parmesan \nCourse 4: Choice of Chicken\, Short Rib\, or Vegetarian (Vegan) Entree \nCourse 5: Dessert \nPlease Note: Parlour can accommodate any dietary concerns (gluten free\, nut allergy\, vegan etc.) \n \nPRICE\nCabaret Ticket: $100 (includes 4 course meal\, complimentary coffee & tea\, 20% gratuity to the restaurant\, and a $25 charitable tax receipt) \n \nPlease Note: there is upper balcony seating\, however the only way to access these seats are a staircase of stairs; no elevator. Please double check when booking your seats if you are requiring ground floor seats
URL:https://nuovavocalarts.ca/fr/events/encore-a-broadway-benefit-dinner-cabaret/
LOCATION:The Parlour Italian Kitchen & Bar\, 10334 108 Street Northwest\, Edmonton\, AB\, T5J 1L9\, Canada
ATTACH;FMTTYPE=image/jpeg:https://nuovavocalarts.ca/wp-content/uploads/2025/04/1f0d431a755d819a5aed6d159353e1d0.jpg
END:VEVENT
END:VCALENDAR