BEGIN:VCALENDAR
VERSION:2.0
PRODID:-//NUOVA Vocal Arts - ECPv6.15.20//NONSGML v1.0//EN
CALSCALE:GREGORIAN
METHOD:PUBLISH
X-ORIGINAL-URL:https://nuovavocalarts.ca
X-WR-CALDESC:Events for NUOVA Vocal Arts
REFRESH-INTERVAL;VALUE=DURATION:PT1H
X-Robots-Tag:noindex
X-PUBLISHED-TTL:PT1H
BEGIN:VTIMEZONE
TZID:America/Edmonton
BEGIN:DAYLIGHT
TZOFFSETFROM:-0700
TZOFFSETTO:-0600
TZNAME:MDT
DTSTART:20240310T090000
END:DAYLIGHT
BEGIN:STANDARD
TZOFFSETFROM:-0600
TZOFFSETTO:-0700
TZNAME:MST
DTSTART:20241103T080000
END:STANDARD
BEGIN:DAYLIGHT
TZOFFSETFROM:-0700
TZOFFSETTO:-0600
TZNAME:MDT
DTSTART:20250309T090000
END:DAYLIGHT
BEGIN:STANDARD
TZOFFSETFROM:-0600
TZOFFSETTO:-0700
TZNAME:MST
DTSTART:20251102T080000
END:STANDARD
BEGIN:DAYLIGHT
TZOFFSETFROM:-0700
TZOFFSETTO:-0600
TZNAME:MDT
DTSTART:20260308T090000
END:DAYLIGHT
BEGIN:STANDARD
TZOFFSETFROM:-0600
TZOFFSETTO:-0700
TZNAME:MST
DTSTART:20261101T080000
END:STANDARD
BEGIN:DAYLIGHT
TZOFFSETFROM:-0700
TZOFFSETTO:-0600
TZNAME:MDT
DTSTART:20270314T090000
END:DAYLIGHT
BEGIN:STANDARD
TZOFFSETFROM:-0600
TZOFFSETTO:-0700
TZNAME:MST
DTSTART:20271107T080000
END:STANDARD
END:VTIMEZONE
BEGIN:VEVENT
DTSTART;TZID=America/Edmonton:20250628T140000
DTEND;TZID=America/Edmonton:20250628T163000
DTSTAMP:20260423T131659
CREATED:20250402T185502Z
LAST-MODIFIED:20250402T185502Z
UID:10000447-1751119200-1751128200@nuovavocalarts.ca
SUMMARY:Once Upon A Mattress
DESCRIPTION:An uproarious update of Hans Christian Andersen’s “The Princess and the Pea.”
URL:https://nuovavocalarts.ca/events/once-upon-a-mattress-7/
LOCATION:The Capitol Theatre at Fort Edmonton Park\, 7000 143 Street\, Edmonton\, AB\, T6H 4P3\, Canada
ATTACH;FMTTYPE=image/jpeg:https://nuovavocalarts.ca/wp-content/uploads/2025/02/f04869e8b152883de3857476ff348e63.jpg
END:VEVENT
BEGIN:VEVENT
DTSTART;TZID=America/Edmonton:20250628T193000
DTEND;TZID=America/Edmonton:20250628T220000
DTSTAMP:20260423T131659
CREATED:20250210T191022Z
LAST-MODIFIED:20250402T184118Z
UID:10000433-1751139000-1751148000@nuovavocalarts.ca
SUMMARY:Between the Lines
DESCRIPTION:Live the story you want\, even if it’s not the story you’re in.
URL:https://nuovavocalarts.ca/events/between-the-lines/
LOCATION:The Capitol Theatre at Fort Edmonton Park\, 7000 143 Street\, Edmonton\, AB\, T6H 4P3\, Canada
ATTACH;FMTTYPE=image/jpeg:https://nuovavocalarts.ca/wp-content/uploads/2025/02/6e54dbf8f4df6385d3e634aec0217635.jpg
END:VEVENT
BEGIN:VEVENT
DTSTART;TZID=America/Edmonton:20250629T140000
DTEND;TZID=America/Edmonton:20250629T163000
DTSTAMP:20260423T131659
CREATED:20250210T191029Z
LAST-MODIFIED:20250402T184119Z
UID:10000434-1751205600-1751214600@nuovavocalarts.ca
SUMMARY:Between the Lines
DESCRIPTION:Live the story you want\, even if it’s not the story you’re in.
URL:https://nuovavocalarts.ca/events/between-the-lines-2/
LOCATION:The Capitol Theatre at Fort Edmonton Park\, 7000 143 Street\, Edmonton\, AB\, T6H 4P3\, Canada
ATTACH;FMTTYPE=image/jpeg:https://nuovavocalarts.ca/wp-content/uploads/2025/02/6e54dbf8f4df6385d3e634aec0217635.jpg
END:VEVENT
BEGIN:VEVENT
DTSTART;TZID=America/Edmonton:20260423T080000
DTEND;TZID=America/Edmonton:20260423T170000
DTSTAMP:20260423T131659
CREATED:20260423T162721Z
LAST-MODIFIED:20260423T162913Z
UID:10000472-1776931200-1776963600@nuovavocalarts.ca
SUMMARY:An Operatic Feast: Four Course Meal & Live Music
DESCRIPTION:Join NUOVA Vocal Arts for an unforgettable evening of music\, storytelling\, and fine dining in the heart of downtown Edmonton at Normand’s. \nExperience the artistry of some of Canada’s most exciting emerging vocalists as they bring a vibrant\, curated program to life—blending musical theatre\, classical favourites\, and contemporary gems in an intimate cabaret setting. \nYour Evening Includes: \nA thoughtfully prepared four-course meal: \n\nAppetizer\nSoup or salad\nChoice of three entrées\nChoice of two Desserts\n\nEvent Details: \nLocation: Normand’s\, Downtown Edmonton \nExperience: Four-course dinner paired with a live cabaret performance \nAtmosphere: Intimate\, lively\, and immersive\, perfect for music lovers and food enthusiasts alike! \nCome for the food\, stay for the music\, and settle in for an evening of song\, story\, and unforgettable performance.
URL:https://nuovavocalarts.ca/events/an-operatic-feast-four-course-meal-live-music/
LOCATION:Normands Restaurant\, 11639 Jasper Ave\,\,\, Edmonton\, AB\, T5K 0M9\, Canada
END:VEVENT
BEGIN:VEVENT
DTSTART;TZID=America/Edmonton:20260426T190000
DTEND;TZID=America/Edmonton:20260426T203000
DTSTAMP:20260423T131659
CREATED:20260423T161523Z
LAST-MODIFIED:20260423T161523Z
UID:10000466-1777230000-1777235400@nuovavocalarts.ca
SUMMARY:The Life and Music of Mozart
DESCRIPTION:Muttart Theatre | Stanley A. Milner Library | 7:00 – 8:30 PM \nStep inside the world of Wolfgang Amadeus Mozart for an evening of insight\, storytelling\, and extraordinary music. This distinguished event blends live performance with illuminating commentary\, tracing the life\, genius\, and enduring influence of one of history’s greatest composers. \nFeaturing Canada’s leading emerging vocal artists from coast to coast—participants of the NUOVA Vocal Arts Festival’s renowned five-week intensive – this concert brings Mozart’s most beloved works vividly to life. \nJoin us from 7:00 – 8:30 PM at the Muttart Theatre in the Stanley A. Milner Library\, followed by a reception to meet the artists and continue the conversation.
URL:https://nuovavocalarts.ca/events/the-life-and-music-of-mozart/
LOCATION:Muttart Theatre | Stanley A. Milner Library\, 7 Sir Winston Churchill Sq NW\,\,\, Edmonton\, AB\, T5J 2V5\, Canada
END:VEVENT
BEGIN:VEVENT
DTSTART;TZID=America/Edmonton:20260531T140000
DTEND;TZID=America/Edmonton:20260531T150000
DTSTAMP:20260423T131659
CREATED:20260423T161050Z
LAST-MODIFIED:20260423T161050Z
UID:10000463-1780236000-1780239600@nuovavocalarts.ca
SUMMARY:Vocal Gems: An Inspired Afternoon
DESCRIPTION:Join us for a warm and uplifting afternoon of music featuring Vocal Gems\, a curated hour of beloved selections performed by Canada’s leading emerging vocal artists from the NUOVA Vocal Arts Festival. \nThis intimate concert celebrates the beauty and immediacy of the human voice. Designed as a shared moment of connection and inspiration\, this one-hour performance offers audiences a chance to experience world-class young artists up close in an inviting community setting.
URL:https://nuovavocalarts.ca/events/vocal-gems-an-inspired-afternoon/
LOCATION:Edmonton Jewish Senior Centre\, 10052 117 St NW\, Edmonton\, AB\, T5J 2Z2
END:VEVENT
BEGIN:VEVENT
DTSTART;TZID=America/Edmonton:20260531T140000
DTEND;TZID=America/Edmonton:20260531T150000
DTSTAMP:20260423T131659
CREATED:20260423T162022Z
LAST-MODIFIED:20260423T162022Z
UID:10000469-1780236000-1780239600@nuovavocalarts.ca
SUMMARY:Voices in Bloom
DESCRIPTION:Saturday\, May 30 & June 13\, 2026 | 2:00 – 3:00 PM | Muttart Conservatory \nStep into a living garden of sound and light with Voice in Bloom\, an intimate one-hour concert set within the breathtaking glass pyramid of the Muttart Conservatory. \nFrom 2:00–3:00 PM\, experience a golden-age inspired musical gathering where voice and nature intertwine. Surrounded by cascading light and lush displays of golden hydrangeas\, Canada’s leading emerging vocal artists from the NUOVA Vocal Arts Festival offer an acoustic performance of luminous clarity and warmth\, revealing the beauty of song in its most unadorned form. \nAn afternoon of elegance\, stillness\, and radiant sound\, where music blooms in the heart of the garden. \nJoin us for a by-donation concert. Please note that admission to the Muttart Conservatory pyramids is separate and payable at the door.
URL:https://nuovavocalarts.ca/events/voices-in-bloom/2026-05-31/
LOCATION:Muttart Conservatory\, 9626 96A Street Northwest\, Edmonton\, AB\, T6C 4L8\, Canada
END:VEVENT
BEGIN:VEVENT
DTSTART;TZID=America/Edmonton:20260602T190000
DTEND;TZID=America/Edmonton:20260602T203000
DTSTAMP:20260423T131659
CREATED:20260423T161341Z
LAST-MODIFIED:20260423T161341Z
UID:10000465-1780426800-1780432200@nuovavocalarts.ca
SUMMARY:Discover Mozart’s Così
DESCRIPTION:Muttart Theatre | Stanley A. Milner Library | 7:00 – 8:30 PM \nDive into the wit\, romance\, and irresistible music of Così fan tutte in this lively evening of curated selections and insight. Discover the brilliance of Wolfgang Amadeus Mozart’s beloved opera through its most captivating arias and ensembles – brought to life by some of the cast in NUOVA’s Festival MainStage production running June 18-21 at the Capitol Theatre in Fort Edmonton Park \nFeaturing members of the cast from NUOVA’s bold Canadian reimagining\, conceived and designed by Sheldon Johnson\, this performance offers a unique preview into the Festival’s fresh take on this sparkling and refreshing work. \nJoin us from7:00 – 8:30 PM at the Muttart Theatre in the Stanley A. Milner Library\, followed by a reception to meet the artists and continue the conversation.
URL:https://nuovavocalarts.ca/events/discover-mozarts-cosi/
LOCATION:Muttart Theatre | Stanley A. Milner Library\, 7 Sir Winston Churchill Sq NW\,\,\, Edmonton\, AB\, T5J 2V5\, Canada
END:VEVENT
BEGIN:VEVENT
DTSTART;TZID=America/Edmonton:20260605T180000
DTEND;TZID=America/Edmonton:20260605T200000
DTSTAMP:20260423T131659
CREATED:20260423T161701Z
LAST-MODIFIED:20260423T161701Z
UID:10000467-1780682400-1780689600@nuovavocalarts.ca
SUMMARY:A Cocktail Cabaret
DESCRIPTION:Kaffa Coffee Roasters\nFriday\, June 5\, 2026 | 6:00 – 8:00 PM \nUnwind in style with an intimate evening of jazz-infused musical theatre and cabaret favourites. The Cocktail Cabaret blends smooth vocals\, and a relaxed lounge atmosphere – perfect for easing into your summer night. \nFeaturing Canada’s leading emerging vocal artists from the NUOVA Vocal Arts Festival\, this curated program offers a fresh\, stylish take on beloved repertoire\, from golden age classics to contemporary gems – all with a jazzy twist. \nJoin us at Kaffa Coffee Roasters for an evening of music\, connection\, and cocktails – where great songs and great company meet.
URL:https://nuovavocalarts.ca/events/a-cocktail-cabaret/
LOCATION:Kaffa Coffee Roasters\, 10920 88 Ave NW\, 10920 88ave nw #201\, Edmonton\, AB\, T6G 0Z1
END:VEVENT
BEGIN:VEVENT
DTSTART;TZID=America/Edmonton:20260606T140000
DTEND;TZID=America/Edmonton:20260606T150000
DTSTAMP:20260423T131659
CREATED:20260423T161825Z
LAST-MODIFIED:20260423T161825Z
UID:10000468-1780754400-1780758000@nuovavocalarts.ca
SUMMARY:Among the Hydrangeas
DESCRIPTION:Saturday June 6\, 2026 | 2:00 – 3:00 PM | Muttart Conservatory \nStep into a living garden of music and light within the glass pyramids of the Muttart Conservatory\, where voice and nature intertwine in an intimate acoustic experience. \nAmong the Hydrangeas invites audiences into a serene\, sensory world surrounded by lush blooms and shifting natural light. Canada’s leading emerging vocal artists from the Festival perform a curated program of vocal works\, delicate\, lyrical\, and expressive\, unfolding like petals in real time. \nWith arrangements designed to echo the stillness and beauty of the garden itself\, this concert offers a moment of pause: a chance to listen closely\, breathe deeply\, and experience music as something living\, immediate\, and shared. \nAn afternoon of quiet splendour\, where voices bloom among the flowers.
URL:https://nuovavocalarts.ca/events/among-the-hydrangeas/
LOCATION:Muttart Conservatory\, 9626 96A Street Northwest\, Edmonton\, AB\, T6C 4L8\, Canada
END:VEVENT
BEGIN:VEVENT
DTSTART;TZID=America/Edmonton:20260609T190000
DTEND;TZID=America/Edmonton:20260609T203000
DTSTAMP:20260423T131659
CREATED:20260423T161242Z
LAST-MODIFIED:20260423T161242Z
UID:10000464-1781031600-1781037000@nuovavocalarts.ca
SUMMARY:The World of Lerner & Loewe
DESCRIPTION:Muttart Theatre | Stanley A. Milner Library | 7:00 – 8:30 PM \nStep into the golden age of musical theatre with an unforgettable evening celebrating the timeless partnership of Alan Jay Lerner and Frederick Loewe. From sweeping romance to sparkling wit\, this concert explores the music that defined a generation of Broadway storytelling. \nFeaturing selections from beloved classics like My Fair Lady\, Brigadoon\, and Camelot\, participants in NUOVA’s renowned five-week training intensive bring these iconic songs to vibrant life. \nJoin us from 7:00 – 8:30 PM at the Muttart Theatre in the Stanley A. Milner Library\, followed by a reception to meet the artists and celebrate the enduring magic of Lerner & Loewe.
URL:https://nuovavocalarts.ca/events/the-world-of-lerner-loewe/
LOCATION:Muttart Theatre | Stanley A. Milner Library\, 7 Sir Winston Churchill Sq NW\,\,\, Edmonton\, AB\, T5J 2V5\, Canada
END:VEVENT
BEGIN:VEVENT
DTSTART;TZID=America/Edmonton:20260613T140000
DTEND;TZID=America/Edmonton:20260613T150000
DTSTAMP:20260423T131659
CREATED:20260423T162022Z
LAST-MODIFIED:20260423T162022Z
UID:10000470-1781359200-1781362800@nuovavocalarts.ca
SUMMARY:Voices in Bloom
DESCRIPTION:Saturday\, May 30 & June 13\, 2026 | 2:00 – 3:00 PM | Muttart Conservatory \nStep into a living garden of sound and light with Voice in Bloom\, an intimate one-hour concert set within the breathtaking glass pyramid of the Muttart Conservatory. \nFrom 2:00–3:00 PM\, experience a golden-age inspired musical gathering where voice and nature intertwine. Surrounded by cascading light and lush displays of golden hydrangeas\, Canada’s leading emerging vocal artists from the NUOVA Vocal Arts Festival offer an acoustic performance of luminous clarity and warmth\, revealing the beauty of song in its most unadorned form. \nAn afternoon of elegance\, stillness\, and radiant sound\, where music blooms in the heart of the garden. \nJoin us for a by-donation concert. Please note that admission to the Muttart Conservatory pyramids is separate and payable at the door.
URL:https://nuovavocalarts.ca/events/voices-in-bloom/2026-06-13/
LOCATION:Muttart Conservatory\, 9626 96A Street Northwest\, Edmonton\, AB\, T6C 4L8\, Canada
END:VEVENT
BEGIN:VEVENT
DTSTART;TZID=America/Edmonton:20260614T110000
DTEND;TZID=America/Edmonton:20260614T130000
DTSTAMP:20260423T131659
CREATED:20260423T162208Z
LAST-MODIFIED:20260423T162208Z
UID:10000471-1781434800-1781442000@nuovavocalarts.ca
SUMMARY:Morning Harmonies: Brunch & Song
DESCRIPTION:Sunday\, June 14\, 2026 | 11:00 – 1:00 PM | Edmonton Jewish Senior Centre\n\n\n\n\nBegin your day with warmth\, music\, and community at Morning Harmonies\, a relaxed brunch and performance experience featuring artists of the NUOVA Vocal Arts Festival. \nEnjoy a brunch alongside a light\, uplifting program of vocal music\, from charming selections performed by Canada’s leading emerging singers. Designed to feel welcoming and intimate\, this event invites you to savour both food and song in equal measure. \nA gentle\, joyful start to your Sunday – where good company\, good music\, and a shared table come together. \nAdmission can be purchased at the event page $45.00 includes Brunch and performance.
URL:https://nuovavocalarts.ca/events/morning-harmonies-brunch-song/
LOCATION:Edmonton Jewish Senior Centre\, 10052 117 St NW\, Edmonton\, AB\, T5J 2Z2
END:VEVENT
END:VCALENDAR