BEGIN:VCALENDAR
VERSION:2.0
PRODID:-//NUOVA Vocal Arts - ECPv6.15.20//NONSGML v1.0//EN
CALSCALE:GREGORIAN
METHOD:PUBLISH
X-WR-CALNAME:NUOVA Vocal Arts
X-ORIGINAL-URL:https://nuovavocalarts.ca
X-WR-CALDESC:Events for NUOVA Vocal Arts
REFRESH-INTERVAL;VALUE=DURATION:PT1H
X-Robots-Tag:noindex
X-PUBLISHED-TTL:PT1H
BEGIN:VTIMEZONE
TZID:America/Edmonton
BEGIN:DAYLIGHT
TZOFFSETFROM:-0700
TZOFFSETTO:-0600
TZNAME:MDT
DTSTART:20250309T090000
END:DAYLIGHT
BEGIN:STANDARD
TZOFFSETFROM:-0600
TZOFFSETTO:-0700
TZNAME:MST
DTSTART:20251102T080000
END:STANDARD
BEGIN:DAYLIGHT
TZOFFSETFROM:-0700
TZOFFSETTO:-0600
TZNAME:MDT
DTSTART:20260308T090000
END:DAYLIGHT
BEGIN:STANDARD
TZOFFSETFROM:-0600
TZOFFSETTO:-0700
TZNAME:MST
DTSTART:20261101T080000
END:STANDARD
BEGIN:DAYLIGHT
TZOFFSETFROM:-0700
TZOFFSETTO:-0600
TZNAME:MDT
DTSTART:20270314T090000
END:DAYLIGHT
BEGIN:STANDARD
TZOFFSETFROM:-0600
TZOFFSETTO:-0700
TZNAME:MST
DTSTART:20271107T080000
END:STANDARD
END:VTIMEZONE
BEGIN:VEVENT
DTSTART;TZID=America/Edmonton:20260613T140000
DTEND;TZID=America/Edmonton:20260613T150000
DTSTAMP:20260423T183253
CREATED:20260423T162022Z
LAST-MODIFIED:20260423T223309Z
UID:10000470-1781359200-1781362800@nuovavocalarts.ca
SUMMARY:Voices in Bloom
DESCRIPTION:Saturday\, May 30 & June 13\, 2026 | 2:00 – 3:00 PM | Muttart Conservatory \nStep into a living garden of sound and light with Voice in Bloom\, an intimate one-hour concert set within the breathtaking glass pyramid of the Muttart Conservatory. \nFrom 2:00–3:00 PM\, experience a golden-age inspired musical gathering where voice and nature intertwine. Surrounded by cascading light and lush displays of golden hydrangeas\, Canada’s leading emerging vocal artists from the NUOVA Vocal Arts Festival offer an acoustic performance of luminous clarity and warmth\, revealing the beauty of song in its most unadorned form. \nAn afternoon of elegance\, stillness\, and radiant sound\, where music blooms in the heart of the garden. \nJoin us for a by-donation concert. Please note that admission to the Muttart Conservatory pyramids is separate and payable at the door.
URL:https://nuovavocalarts.ca/events/voices-in-bloom/2026-06-13/
LOCATION:Muttart Conservatory\, 9626 96A Street Northwest\, Edmonton\, AB\, T6C 4L8\, Canada
END:VEVENT
BEGIN:VEVENT
DTSTART;TZID=America/Edmonton:20260614T110000
DTEND;TZID=America/Edmonton:20260614T130000
DTSTAMP:20260423T183253
CREATED:20260423T162208Z
LAST-MODIFIED:20260423T223900Z
UID:10000471-1781434800-1781442000@nuovavocalarts.ca
SUMMARY:Morning Harmonies: Brunch & Song
DESCRIPTION:Sunday\, June 14\, 2026 | 11:00 – 1:00 PM | Edmonton Jewish Senior Centre\n\n\n\n\nBegin your day with warmth\, music\, and community at Morning Harmonies\, a relaxed brunch and performance experience featuring artists of the NUOVA Vocal Arts Festival. \nEnjoy a brunch alongside a light\, uplifting program of vocal music\, from charming selections performed by Canada’s leading emerging singers. Designed to feel welcoming and intimate\, this event invites you to savour both food and song in equal measure. \nA gentle\, joyful start to your Sunday – where good company\, good music\, and a shared table come together. \nAdmission can be purchased at the event page $45.00 includes Brunch and performance.
URL:https://nuovavocalarts.ca/events/morning-harmonies-brunch-song/
LOCATION:Edmonton Jewish Senior Centre\, 10052 117 St NW\, Edmonton\, AB\, T5J 2Z2
END:VEVENT
END:VCALENDAR