BEGIN:VCALENDAR
VERSION:2.0
PRODID:-//NUOVA Vocal Arts - ECPv6.15.20//NONSGML v1.0//EN
CALSCALE:GREGORIAN
METHOD:PUBLISH
X-WR-CALNAME:NUOVA Vocal Arts
X-ORIGINAL-URL:https://nuovavocalarts.ca
X-WR-CALDESC:Events for NUOVA Vocal Arts
REFRESH-INTERVAL;VALUE=DURATION:PT1H
X-Robots-Tag:noindex
X-PUBLISHED-TTL:PT1H
BEGIN:VTIMEZONE
TZID:America/Edmonton
BEGIN:DAYLIGHT
TZOFFSETFROM:-0700
TZOFFSETTO:-0600
TZNAME:MDT
DTSTART:20250309T090000
END:DAYLIGHT
BEGIN:STANDARD
TZOFFSETFROM:-0600
TZOFFSETTO:-0700
TZNAME:MST
DTSTART:20251102T080000
END:STANDARD
BEGIN:DAYLIGHT
TZOFFSETFROM:-0700
TZOFFSETTO:-0600
TZNAME:MDT
DTSTART:20260308T090000
END:DAYLIGHT
BEGIN:STANDARD
TZOFFSETFROM:-0600
TZOFFSETTO:-0700
TZNAME:MST
DTSTART:20261101T080000
END:STANDARD
BEGIN:DAYLIGHT
TZOFFSETFROM:-0700
TZOFFSETTO:-0600
TZNAME:MDT
DTSTART:20270314T090000
END:DAYLIGHT
BEGIN:STANDARD
TZOFFSETFROM:-0600
TZOFFSETTO:-0700
TZNAME:MST
DTSTART:20271107T080000
END:STANDARD
END:VTIMEZONE
BEGIN:VEVENT
DTSTART;TZID=America/Edmonton:20260606T140000
DTEND;TZID=America/Edmonton:20260606T150000
DTSTAMP:20260424T013816
CREATED:20260423T161825Z
LAST-MODIFIED:20260423T223642Z
UID:10000468-1780754400-1780758000@nuovavocalarts.ca
SUMMARY:Among the Hydrangeas
DESCRIPTION:Saturday June 6\, 2026 | 2:00 – 3:00 PM | Muttart Conservatory \nStep into a living garden of music and light within the glass pyramids of the Muttart Conservatory\, where voice and nature intertwine in an intimate acoustic experience. \nAmong the Hydrangeas invites audiences into a serene\, sensory world surrounded by lush blooms and shifting natural light. Canada’s leading emerging vocal artists from the Festival perform a curated program of vocal works\, delicate\, lyrical\, and expressive\, unfolding like petals in real time. \nWith arrangements designed to echo the stillness and beauty of the garden itself\, this concert offers a moment of pause: a chance to listen closely\, breathe deeply\, and experience music as something living\, immediate\, and shared. \nAn afternoon of quiet splendour\, where voices bloom among the flowers.
URL:https://nuovavocalarts.ca/events/among-the-hydrangeas/
LOCATION:Muttart Conservatory\, 9626 96A Street Northwest\, Edmonton\, AB\, T6C 4L8\, Canada
END:VEVENT
END:VCALENDAR