BEGIN:VCALENDAR
VERSION:2.0
PRODID:-//NUOVA Vocal Arts - ECPv6.15.20//NONSGML v1.0//EN
CALSCALE:GREGORIAN
METHOD:PUBLISH
X-ORIGINAL-URL:https://nuovavocalarts.ca
X-WR-CALDESC:Events for NUOVA Vocal Arts
REFRESH-INTERVAL;VALUE=DURATION:PT1H
X-Robots-Tag:noindex
X-PUBLISHED-TTL:PT1H
BEGIN:VTIMEZONE
TZID:America/Edmonton
BEGIN:DAYLIGHT
TZOFFSETFROM:-0700
TZOFFSETTO:-0600
TZNAME:MDT
DTSTART:20250309T090000
END:DAYLIGHT
BEGIN:STANDARD
TZOFFSETFROM:-0600
TZOFFSETTO:-0700
TZNAME:MST
DTSTART:20251102T080000
END:STANDARD
BEGIN:DAYLIGHT
TZOFFSETFROM:-0700
TZOFFSETTO:-0600
TZNAME:MDT
DTSTART:20260308T090000
END:DAYLIGHT
BEGIN:STANDARD
TZOFFSETFROM:-0600
TZOFFSETTO:-0700
TZNAME:MST
DTSTART:20261101T080000
END:STANDARD
BEGIN:DAYLIGHT
TZOFFSETFROM:-0700
TZOFFSETTO:-0600
TZNAME:MDT
DTSTART:20270314T090000
END:DAYLIGHT
BEGIN:STANDARD
TZOFFSETFROM:-0600
TZOFFSETTO:-0700
TZNAME:MST
DTSTART:20271107T080000
END:STANDARD
END:VTIMEZONE
BEGIN:VEVENT
DTSTART;TZID=America/Edmonton:20260526T190000
DTEND;TZID=America/Edmonton:20260526T203000
DTSTAMP:20260423T194253
CREATED:20260423T161523Z
LAST-MODIFIED:20260423T223121Z
UID:10000466-1779822000-1779827400@nuovavocalarts.ca
SUMMARY:The Life and Music of Mozart
DESCRIPTION:Muttart Theatre | Stanley A. Milner Library | 7:00 – 8:30 PM \nStep inside the world of Wolfgang Amadeus Mozart for an evening of insight\, storytelling\, and extraordinary music. This distinguished event blends live performance with illuminating commentary\, tracing the life\, genius\, and enduring influence of one of history’s greatest composers. \nFeaturing Canada’s leading emerging vocal artists from coast to coast—participants of the NUOVA Vocal Arts Festival’s renowned five-week intensive – this concert brings Mozart’s most beloved works vividly to life. \nJoin us from 7:00 – 8:30 PM at the Muttart Theatre in the Stanley A. Milner Library\, followed by a reception to meet the artists and continue the conversation.
URL:https://nuovavocalarts.ca/events/the-life-and-music-of-mozart/
LOCATION:Muttart Theatre | Stanley A. Milner Library\, 7 Sir Winston Churchill Sq NW\,\,\, Edmonton\, AB\, T5J 2V5\, Canada
END:VEVENT
END:VCALENDAR