BEGIN:VCALENDAR
VERSION:2.0
PRODID:-//NUOVA Vocal Arts - ECPv6.15.20//NONSGML v1.0//EN
CALSCALE:GREGORIAN
METHOD:PUBLISH
X-ORIGINAL-URL:https://nuovavocalarts.ca
X-WR-CALDESC:Events for NUOVA Vocal Arts
REFRESH-INTERVAL;VALUE=DURATION:PT1H
X-Robots-Tag:noindex
X-PUBLISHED-TTL:PT1H
BEGIN:VTIMEZONE
TZID:America/Edmonton
BEGIN:DAYLIGHT
TZOFFSETFROM:-0700
TZOFFSETTO:-0600
TZNAME:MDT
DTSTART:20240310T090000
END:DAYLIGHT
BEGIN:STANDARD
TZOFFSETFROM:-0600
TZOFFSETTO:-0700
TZNAME:MST
DTSTART:20241103T080000
END:STANDARD
BEGIN:DAYLIGHT
TZOFFSETFROM:-0700
TZOFFSETTO:-0600
TZNAME:MDT
DTSTART:20250309T090000
END:DAYLIGHT
BEGIN:STANDARD
TZOFFSETFROM:-0600
TZOFFSETTO:-0700
TZNAME:MST
DTSTART:20251102T080000
END:STANDARD
BEGIN:DAYLIGHT
TZOFFSETFROM:-0700
TZOFFSETTO:-0600
TZNAME:MDT
DTSTART:20260308T090000
END:DAYLIGHT
BEGIN:STANDARD
TZOFFSETFROM:-0600
TZOFFSETTO:-0700
TZNAME:MST
DTSTART:20261101T080000
END:STANDARD
END:VTIMEZONE
BEGIN:VEVENT
DTSTART;TZID=America/Edmonton:20250622T140000
DTEND;TZID=America/Edmonton:20250622T163000
DTSTAMP:20260423T141149
CREATED:20250210T190923Z
LAST-MODIFIED:20250402T185158Z
UID:10000429-1750600800-1750609800@nuovavocalarts.ca
SUMMARY:Once Upon A Mattress
DESCRIPTION:An uproarious update of Hans Christian Andersen’s “The Princess and the Pea.”
URL:https://nuovavocalarts.ca/events/once-upon-a-mattress-3/
LOCATION:The Capitol Theatre at Fort Edmonton Park\, 7000 143 Street\, Edmonton\, AB\, T6H 4P3\, Canada
ATTACH;FMTTYPE=image/jpeg:https://nuovavocalarts.ca/wp-content/uploads/2025/02/f04869e8b152883de3857476ff348e63.jpg
END:VEVENT
END:VCALENDAR