BEGIN:VCALENDAR
VERSION:2.0
PRODID:-//NUOVA Vocal Arts - ECPv6.15.20//NONSGML v1.0//EN
CALSCALE:GREGORIAN
METHOD:PUBLISH
X-ORIGINAL-URL:https://nuovavocalarts.ca
X-WR-CALDESC:Events for NUOVA Vocal Arts
REFRESH-INTERVAL;VALUE=DURATION:PT1H
X-Robots-Tag:noindex
X-PUBLISHED-TTL:PT1H
BEGIN:VTIMEZONE
TZID:America/Edmonton
BEGIN:DAYLIGHT
TZOFFSETFROM:-0700
TZOFFSETTO:-0600
TZNAME:MDT
DTSTART:20240310T090000
END:DAYLIGHT
BEGIN:STANDARD
TZOFFSETFROM:-0600
TZOFFSETTO:-0700
TZNAME:MST
DTSTART:20241103T080000
END:STANDARD
BEGIN:DAYLIGHT
TZOFFSETFROM:-0700
TZOFFSETTO:-0600
TZNAME:MDT
DTSTART:20250309T090000
END:DAYLIGHT
BEGIN:STANDARD
TZOFFSETFROM:-0600
TZOFFSETTO:-0700
TZNAME:MST
DTSTART:20251102T080000
END:STANDARD
BEGIN:DAYLIGHT
TZOFFSETFROM:-0700
TZOFFSETTO:-0600
TZNAME:MDT
DTSTART:20260308T090000
END:DAYLIGHT
BEGIN:STANDARD
TZOFFSETFROM:-0600
TZOFFSETTO:-0700
TZNAME:MST
DTSTART:20261101T080000
END:STANDARD
END:VTIMEZONE
BEGIN:VEVENT
DTSTART;TZID=America/Edmonton:20250621T140000
DTEND;TZID=America/Edmonton:20250621T163000
DTSTAMP:20260423T141239
CREATED:20250210T190923Z
LAST-MODIFIED:20250402T185158Z
UID:10000428-1750514400-1750523400@nuovavocalarts.ca
SUMMARY:Once Upon A Mattress
DESCRIPTION:An uproarious update of Hans Christian Andersen’s “The Princess and the Pea.”
URL:https://nuovavocalarts.ca/events/once-upon-a-mattress-2/
LOCATION:The Capitol Theatre at Fort Edmonton Park\, 7000 143 Street\, Edmonton\, AB\, T6H 4P3\, Canada
ATTACH;FMTTYPE=image/jpeg:https://nuovavocalarts.ca/wp-content/uploads/2025/02/f04869e8b152883de3857476ff348e63.jpg
END:VEVENT
BEGIN:VEVENT
DTSTART;TZID=America/Edmonton:20250621T193000
DTEND;TZID=America/Edmonton:20250621T193000
DTSTAMP:20260423T141239
CREATED:20250210T191538Z
LAST-MODIFIED:20250402T184829Z
UID:10000440-1750534200-1750534200@nuovavocalarts.ca
SUMMARY:SILENCE
DESCRIPTION:A not-so-pure Maiden is sent to marry a not-so-manly Lord\, who is advised by a not-so-celibate Priest\, and protected by a not-so-insensitive Thug in an England ruled by a King who won’t get out of bed.A bold new operatic work with libretto by Darrin Hagen & composed by Leslie Uyeda\, adapted from the award winning play by Moira Buffini
URL:https://nuovavocalarts.ca/events/silence/
LOCATION:AB
END:VEVENT
END:VCALENDAR