BEGIN:VCALENDAR
VERSION:2.0
PRODID:-//NUOVA Vocal Arts - ECPv6.15.20//NONSGML v1.0//EN
CALSCALE:GREGORIAN
METHOD:PUBLISH
X-WR-CALNAME:NUOVA Vocal Arts
X-ORIGINAL-URL:https://nuovavocalarts.ca
X-WR-CALDESC:Events for NUOVA Vocal Arts
REFRESH-INTERVAL;VALUE=DURATION:PT1H
X-Robots-Tag:noindex
X-PUBLISHED-TTL:PT1H
BEGIN:VTIMEZONE
TZID:America/Edmonton
BEGIN:DAYLIGHT
TZOFFSETFROM:-0700
TZOFFSETTO:-0600
TZNAME:MDT
DTSTART:20240310T090000
END:DAYLIGHT
BEGIN:STANDARD
TZOFFSETFROM:-0600
TZOFFSETTO:-0700
TZNAME:MST
DTSTART:20241103T080000
END:STANDARD
BEGIN:DAYLIGHT
TZOFFSETFROM:-0700
TZOFFSETTO:-0600
TZNAME:MDT
DTSTART:20250309T090000
END:DAYLIGHT
BEGIN:STANDARD
TZOFFSETFROM:-0600
TZOFFSETTO:-0700
TZNAME:MST
DTSTART:20251102T080000
END:STANDARD
BEGIN:DAYLIGHT
TZOFFSETFROM:-0700
TZOFFSETTO:-0600
TZNAME:MDT
DTSTART:20260308T090000
END:DAYLIGHT
BEGIN:STANDARD
TZOFFSETFROM:-0600
TZOFFSETTO:-0700
TZNAME:MST
DTSTART:20261101T080000
END:STANDARD
END:VTIMEZONE
BEGIN:VEVENT
DTSTART;TZID=America/Edmonton:20250608T183000
DTEND;TZID=America/Edmonton:20250608T200000
DTSTAMP:20260423T140825
CREATED:20250428T175303Z
LAST-MODIFIED:20250428T175303Z
UID:10000452-1749407400-1749412800@nuovavocalarts.ca
SUMMARY:Storybook Sing-Along
DESCRIPTION:Join us for a fun-filled evening of singing along to your favourite storybook & family friendly musical tunes!\n\n\nSTORYBOOK SING-ALONG\nJoin NUOVA Vocal Arts for an evening of your favourite storybook\, and family friendly musical theatre songs. Our 5 week intensive singers will take you on a journey of popular hits from Frozen\, to The Lion King\, to Mary Poppins\, Alladin\, and many more!  \n \nWHEN: Sunday June 8th\, 6:30-8:00pm \nWHERE: Knoppers Hall at the King’s University of Edmonton (9125 50 St NW\, Edmonton\, AB T6B 2H3) \n \nPRICING \nAdults: $20 \nChildren 12+: $15 \nChildren 11 and under: $12 \nYour ticket also includes a free prince or princess crown! \n \nKnoppers Hall at the King’s University of Edmonton is an accessible venue. Free parking is available.
URL:https://nuovavocalarts.ca/events/storybook-sing-along/
LOCATION:Knoppers Hall\, The Kings University\, 9125 50 Street NW\, Canada
ATTACH;FMTTYPE=image/jpeg:https://nuovavocalarts.ca/wp-content/uploads/2025/04/f5c844c7790e3128a6d9f47acb78325d.jpg
END:VEVENT
END:VCALENDAR