BEGIN:VCALENDAR
VERSION:2.0
PRODID:-//NUOVA Vocal Arts - ECPv6.15.20//NONSGML v1.0//EN
CALSCALE:GREGORIAN
METHOD:PUBLISH
X-WR-CALNAME:NUOVA Vocal Arts
X-ORIGINAL-URL:https://nuovavocalarts.ca
X-WR-CALDESC:Events for NUOVA Vocal Arts
REFRESH-INTERVAL;VALUE=DURATION:PT1H
X-Robots-Tag:noindex
X-PUBLISHED-TTL:PT1H
BEGIN:VTIMEZONE
TZID:America/Edmonton
BEGIN:DAYLIGHT
TZOFFSETFROM:-0700
TZOFFSETTO:-0600
TZNAME:MDT
DTSTART:20240310T090000
END:DAYLIGHT
BEGIN:STANDARD
TZOFFSETFROM:-0600
TZOFFSETTO:-0700
TZNAME:MST
DTSTART:20241103T080000
END:STANDARD
BEGIN:DAYLIGHT
TZOFFSETFROM:-0700
TZOFFSETTO:-0600
TZNAME:MDT
DTSTART:20250309T090000
END:DAYLIGHT
BEGIN:STANDARD
TZOFFSETFROM:-0600
TZOFFSETTO:-0700
TZNAME:MST
DTSTART:20251102T080000
END:STANDARD
BEGIN:DAYLIGHT
TZOFFSETFROM:-0700
TZOFFSETTO:-0600
TZNAME:MDT
DTSTART:20260308T090000
END:DAYLIGHT
BEGIN:STANDARD
TZOFFSETFROM:-0600
TZOFFSETTO:-0700
TZNAME:MST
DTSTART:20261101T080000
END:STANDARD
END:VTIMEZONE
BEGIN:VEVENT
DTSTART;TZID=America/Edmonton:20250524T093000
DTEND;TZID=America/Edmonton:20250525T200000
DTSTAMP:20260423T125957
CREATED:20250428T175114Z
LAST-MODIFIED:20250428T175114Z
UID:10000448-1748079000-1748203200@nuovavocalarts.ca
SUMMARY:National Voice Teacher Symposium
DESCRIPTION:EMPOWERING TEACHERS AND VOCALISTS WITH CUTTING-EDGE TECHNIQUES\, MENTORSHIP\, AND COMMUNITY\n\n\nNational Voice Teacher Symposium\nMay 24th & 25th\, 2025\n \nEarly Bird Registration (until April 30th): $250 \nRegistration fee: $300 \n \nJoin NUOVA Vocal Arts\, along with Sheri Sanders\, Matt Edwards & CJ Greer\, 3 of North Americas leading voice experts in Commercial Contemporary Music (CCM) and Music Theatre for two days of seminars and Q&A sessions. \n \nSee Agenda for a breakdown of two days of extensive learning! \n \nQuestions? Email admin@nuovavocalarts.ca
URL:https://nuovavocalarts.ca/events/national-voice-teacher-symposium/
LOCATION:Allard Hall\, 11110 104 Avenue Northwest\, Edmonton\, AB\, T5K 1M9\, Canada
ATTACH;FMTTYPE=image/jpeg:https://nuovavocalarts.ca/wp-content/uploads/2025/04/402394bef583f35f859ce43540dd775b.jpg
END:VEVENT
BEGIN:VEVENT
DTSTART;TZID=America/Edmonton:20250524T190000
DTEND;TZID=America/Edmonton:20250524T210000
DTSTAMP:20260423T125957
CREATED:20250428T175216Z
LAST-MODIFIED:20250508T171315Z
UID:10000450-1748113200-1748120400@nuovavocalarts.ca
SUMMARY:Song & Aria Showcase
DESCRIPTION:Join us in celebrating the students of the NUOVA 10 day intensive as they showcase their songs & arias in an evening of music!\n\n\nSONG & ARIA SHOWCASE\nJoin us for a night of Arias\, arts song\, and music theatre as we celebrate the culmination of the 10 day intensive program at NUOVA Vocal Arts! \n \nWHEN: Saturday May 25th\, 7:00pm \nWHERE: Knoppers Hall at the King’s University of Edmonton \n \nPRICING \nGeneral Admission: $20 \n \nKnoppers Hall at the King’s University of Edmonton is an accessible venue. Free parking is available.
URL:https://nuovavocalarts.ca/events/song-aria-showcase-2/
LOCATION:Knoppers Hall\, The Kings University\, 9125 50 Street NW\, Canada
ATTACH;FMTTYPE=image/jpeg:https://nuovavocalarts.ca/wp-content/uploads/2025/04/723d8aac2be50bd1ef7a1741953c45e1.jpg
END:VEVENT
END:VCALENDAR