BEGIN:VCALENDAR
VERSION:2.0
PRODID:-//NUOVA Vocal Arts - ECPv6.15.20//NONSGML v1.0//EN
CALSCALE:GREGORIAN
METHOD:PUBLISH
X-WR-CALNAME:NUOVA Vocal Arts
X-ORIGINAL-URL:https://nuovavocalarts.ca
X-WR-CALDESC:Events for NUOVA Vocal Arts
REFRESH-INTERVAL;VALUE=DURATION:PT1H
X-Robots-Tag:noindex
X-PUBLISHED-TTL:PT1H
BEGIN:VTIMEZONE
TZID:America/Edmonton
BEGIN:DAYLIGHT
TZOFFSETFROM:-0700
TZOFFSETTO:-0600
TZNAME:MDT
DTSTART:20240310T090000
END:DAYLIGHT
BEGIN:STANDARD
TZOFFSETFROM:-0600
TZOFFSETTO:-0700
TZNAME:MST
DTSTART:20241103T080000
END:STANDARD
BEGIN:DAYLIGHT
TZOFFSETFROM:-0700
TZOFFSETTO:-0600
TZNAME:MDT
DTSTART:20250309T090000
END:DAYLIGHT
BEGIN:STANDARD
TZOFFSETFROM:-0600
TZOFFSETTO:-0700
TZNAME:MST
DTSTART:20251102T080000
END:STANDARD
BEGIN:DAYLIGHT
TZOFFSETFROM:-0700
TZOFFSETTO:-0600
TZNAME:MDT
DTSTART:20260308T090000
END:DAYLIGHT
BEGIN:STANDARD
TZOFFSETFROM:-0600
TZOFFSETTO:-0700
TZNAME:MST
DTSTART:20261101T080000
END:STANDARD
END:VTIMEZONE
BEGIN:VEVENT
DTSTART;TZID=America/Edmonton:20250228T000000
DTEND;TZID=America/Edmonton:20250228T233000
DTSTAMP:20260423T053346
CREATED:20250210T190838Z
LAST-MODIFIED:20250210T190838Z
UID:10000426-1740700800-1740785400@nuovavocalarts.ca
SUMMARY:NUOVA's PRINCESS PASS
DESCRIPTION:Witness four unruly princesses in our upcoming spring & summer shows!\n\n\nSHREK the Musical\nEveryone’s favourite ogre is back in the hilarious stage spectacle based on the Oscar-winning\, smash hit film. \nMarch 5th-9th\, 2025 \n \nSHOWTIMES: \nMarch 5th\, 7:30pm \nMarch 6th\, 7:30pm \nMarch 7th\, 7:30pm \nMarch 8th\, 2:00pm \nMarch 8th\, 7:30pm \nMarch 9th\, 2:00pm \n \nOnce Upon a Mattress* \nWinnifred the Woebegone is just a simple swamp princess looking to win the heart of Prince Dauntless. But can she pass the impossible test Queen Aggravain has in store for her? \nJune 20th-28th\, 2025 \n \nSILENCE* \n“A not-so-pure Maiden is sent to marry a not-so-manly Lord\, who is advised by a not-so-celibate Priest\, and protected by a not-so-insensitive Thug in an England ruled by a King who won’t get out of bed.” (Goodreads) \nAn opera based on the award winning play by Moira Buffini threads beautiful melodic music\, composed by Leslie Uyeda\, through an imaginative libretto created by Edmonton’s own Darrin Hagen. \nJune 20th-28th\, 2025 \n \nBetween The Lines* \nBetween the Lines is an empowering and enchanting new musical for anyone who has ever sought to find their place in the world. \nJune 28th-29th\, 2025 \n \nPRICING \nPasses are $120\, which get you 1 ticket to each of our upcoming shows! \n \n*We wil be in contact closer to the performance dates of Once upon a Mattress\, Silence & Between the Lines to book your date and time for each show
URL:https://nuovavocalarts.ca/events/nuovas-princess-pass/
LOCATION:1064 Ormsby Crescent NW\, 1064 Ormsby Crescent Northwest\, Edmonton\, AB\, T5T 6J5\, Canada
ATTACH;FMTTYPE=image/jpeg:https://nuovavocalarts.ca/wp-content/uploads/2025/02/5a3d5d8ae163934b7cf88aa242861222.jpg
END:VEVENT
END:VCALENDAR